BEGIN:VCALENDAR
VERSION:2.0
PRODID:-//SDS - ECPv6.15.20//NONSGML v1.0//EN
CALSCALE:GREGORIAN
METHOD:PUBLISH
X-ORIGINAL-URL:https://vv-sds.nl
X-WR-CALDESC:Evenementen voor SDS
REFRESH-INTERVAL;VALUE=DURATION:PT1H
X-Robots-Tag:noindex
X-PUBLISHED-TTL:PT1H
BEGIN:VTIMEZONE
TZID:Europe/Amsterdam
BEGIN:DAYLIGHT
TZOFFSETFROM:+0100
TZOFFSETTO:+0200
TZNAME:CEST
DTSTART:20250330T010000
END:DAYLIGHT
BEGIN:STANDARD
TZOFFSETFROM:+0200
TZOFFSETTO:+0100
TZNAME:CET
DTSTART:20251026T010000
END:STANDARD
BEGIN:DAYLIGHT
TZOFFSETFROM:+0100
TZOFFSETTO:+0200
TZNAME:CEST
DTSTART:20260329T010000
END:DAYLIGHT
BEGIN:STANDARD
TZOFFSETFROM:+0200
TZOFFSETTO:+0100
TZNAME:CET
DTSTART:20261025T010000
END:STANDARD
BEGIN:DAYLIGHT
TZOFFSETFROM:+0100
TZOFFSETTO:+0200
TZNAME:CEST
DTSTART:20270328T010000
END:DAYLIGHT
BEGIN:STANDARD
TZOFFSETFROM:+0200
TZOFFSETTO:+0100
TZNAME:CET
DTSTART:20271031T010000
END:STANDARD
END:VTIMEZONE
BEGIN:VEVENT
DTSTART;TZID=Europe/Amsterdam:20260502T143000
DTEND;TZID=Europe/Amsterdam:20260502T143000
DTSTAMP:20260421T115708
CREATED:20250811T034403Z
LAST-MODIFIED:20250811T034403Z
UID:53341-1777732200-1777732200@vv-sds.nl
SUMMARY:Ynhel/beker
DESCRIPTION:
URL:https://vv-sds.nl/evenemint/ynhel-beker-15/
END:VEVENT
BEGIN:VEVENT
DTSTART;TZID=Europe/Amsterdam:20260509T143000
DTEND;TZID=Europe/Amsterdam:20260509T143000
DTSTAMP:20260421T115708
CREATED:20250811T034449Z
LAST-MODIFIED:20260420T084237Z
UID:53343-1778337000-1778337000@vv-sds.nl
SUMMARY:SDS 1 - Oudehaske 1 mei nei de tiid SDS-slotfeest
DESCRIPTION:
URL:https://vv-sds.nl/evenemint/sds-1-oudehaske-1-2/
LOCATION:De Skoalleseize\, Easterein
ATTACH;FMTTYPE=image/jpeg:https://vv-sds.nl/wp-content/uploads/2026/04/Poster-slotfeest-SDS-sneon-9-maaie-2026.jpeg
END:VEVENT
BEGIN:VEVENT
DTSTART;TZID=Europe/Amsterdam:20260516T143000
DTEND;TZID=Europe/Amsterdam:20260516T143000
DTSTAMP:20260421T115708
CREATED:20250811T034519Z
LAST-MODIFIED:20250811T034519Z
UID:53345-1778941800-1778941800@vv-sds.nl
SUMMARY:Tollebeek 1 - SDS 1
DESCRIPTION:
URL:https://vv-sds.nl/evenemint/tollebeek-1-sds-1/
END:VEVENT
END:VCALENDAR