BEGIN:VCALENDAR
VERSION:2.0
PRODID:-//SDS - ECPv6.15.20//NONSGML v1.0//EN
CALSCALE:GREGORIAN
METHOD:PUBLISH
X-ORIGINAL-URL:https://vv-sds.nl
X-WR-CALDESC:Evenementen voor SDS
REFRESH-INTERVAL;VALUE=DURATION:PT1H
X-Robots-Tag:noindex
X-PUBLISHED-TTL:PT1H
BEGIN:VTIMEZONE
TZID:Europe/Amsterdam
BEGIN:DAYLIGHT
TZOFFSETFROM:+0100
TZOFFSETTO:+0200
TZNAME:CEST
DTSTART:20250330T010000
END:DAYLIGHT
BEGIN:STANDARD
TZOFFSETFROM:+0200
TZOFFSETTO:+0100
TZNAME:CET
DTSTART:20251026T010000
END:STANDARD
BEGIN:DAYLIGHT
TZOFFSETFROM:+0100
TZOFFSETTO:+0200
TZNAME:CEST
DTSTART:20260329T010000
END:DAYLIGHT
BEGIN:STANDARD
TZOFFSETFROM:+0200
TZOFFSETTO:+0100
TZNAME:CET
DTSTART:20261025T010000
END:STANDARD
BEGIN:DAYLIGHT
TZOFFSETFROM:+0100
TZOFFSETTO:+0200
TZNAME:CEST
DTSTART:20270328T010000
END:DAYLIGHT
BEGIN:STANDARD
TZOFFSETFROM:+0200
TZOFFSETTO:+0100
TZNAME:CET
DTSTART:20271031T010000
END:STANDARD
END:VTIMEZONE
BEGIN:VEVENT
DTSTART;TZID=Europe/Amsterdam:20260207T143000
DTEND;TZID=Europe/Amsterdam:20260207T143000
DTSTAMP:20260421T143753
CREATED:20250811T033739Z
LAST-MODIFIED:20260203T152858Z
UID:53317-1770474600-1770474600@vv-sds.nl
SUMMARY:SDS 1 - NOK 1
DESCRIPTION:
URL:https://vv-sds.nl/evenemint/sds-1-nok-1/
END:VEVENT
BEGIN:VEVENT
DTSTART;TZID=Europe/Amsterdam:20260213T200000
DTEND;TZID=Europe/Amsterdam:20260213T200000
DTSTAMP:20260421T143753
CREATED:20250828T145317Z
LAST-MODIFIED:20260205T161152Z
UID:53397-1771012800-1771012800@vv-sds.nl
SUMMARY:SDS-League ynleverje foar 20.00 oere!
DESCRIPTION:Hjoed graach de nije SDS-League ynleverje foar 20.00 oere!
URL:https://vv-sds.nl/evenemint/sds-league-ynleverje-foar-20-00-oere/
END:VEVENT
BEGIN:VEVENT
DTSTART;TZID=Europe/Amsterdam:20260214T143000
DTEND;TZID=Europe/Amsterdam:20260214T143000
DTSTAMP:20260421T143753
CREATED:20250811T033807Z
LAST-MODIFIED:20250811T033807Z
UID:53319-1771079400-1771079400@vv-sds.nl
SUMMARY:WPB 1 - SDS 1
DESCRIPTION:
URL:https://vv-sds.nl/evenemint/wpb-1-sds-1/
END:VEVENT
BEGIN:VEVENT
DTSTART;TZID=Europe/Amsterdam:20260219T201500
DTEND;TZID=Europe/Amsterdam:20260219T201500
DTSTAMP:20260421T143753
CREATED:20260217T155310Z
LAST-MODIFIED:20260217T155310Z
UID:55068-1771532100-1771532100@vv-sds.nl
SUMMARY:Oefen: Drachten 1 - SDS 1
DESCRIPTION:
URL:https://vv-sds.nl/evenemint/oefen-drachten-1-sds-1/
END:VEVENT
BEGIN:VEVENT
DTSTART;TZID=Europe/Amsterdam:20260221T143000
DTEND;TZID=Europe/Amsterdam:20260221T143000
DTSTAMP:20260421T143753
CREATED:20250811T033832Z
LAST-MODIFIED:20250811T033832Z
UID:53321-1771684200-1771684200@vv-sds.nl
SUMMARY:Ynhel/beker
DESCRIPTION:
URL:https://vv-sds.nl/evenemint/ynhel-beker-11/
END:VEVENT
BEGIN:VEVENT
DTSTART;TZID=Europe/Amsterdam:20260228T143000
DTEND;TZID=Europe/Amsterdam:20260228T143000
DTSTAMP:20260421T143753
CREATED:20250811T033903Z
LAST-MODIFIED:20250811T033903Z
UID:53323-1772289000-1772289000@vv-sds.nl
SUMMARY:Ynhel/beker
DESCRIPTION:
URL:https://vv-sds.nl/evenemint/ynhel-beker-12/
END:VEVENT
END:VCALENDAR