BEGIN:VCALENDAR
VERSION:2.0
PRODID:-//SDS - ECPv6.15.20//NONSGML v1.0//EN
CALSCALE:GREGORIAN
METHOD:PUBLISH
X-WR-CALNAME:SDS
X-ORIGINAL-URL:https://vv-sds.nl
X-WR-CALDESC:Evenementen voor SDS
REFRESH-INTERVAL;VALUE=DURATION:PT1H
X-Robots-Tag:noindex
X-PUBLISHED-TTL:PT1H
BEGIN:VTIMEZONE
TZID:Europe/Amsterdam
BEGIN:DAYLIGHT
TZOFFSETFROM:+0100
TZOFFSETTO:+0200
TZNAME:CEST
DTSTART:20250330T010000
END:DAYLIGHT
BEGIN:STANDARD
TZOFFSETFROM:+0200
TZOFFSETTO:+0100
TZNAME:CET
DTSTART:20251026T010000
END:STANDARD
BEGIN:DAYLIGHT
TZOFFSETFROM:+0100
TZOFFSETTO:+0200
TZNAME:CEST
DTSTART:20260329T010000
END:DAYLIGHT
BEGIN:STANDARD
TZOFFSETFROM:+0200
TZOFFSETTO:+0100
TZNAME:CET
DTSTART:20261025T010000
END:STANDARD
BEGIN:DAYLIGHT
TZOFFSETFROM:+0100
TZOFFSETTO:+0200
TZNAME:CEST
DTSTART:20270328T010000
END:DAYLIGHT
BEGIN:STANDARD
TZOFFSETFROM:+0200
TZOFFSETTO:+0100
TZNAME:CET
DTSTART:20271031T010000
END:STANDARD
END:VTIMEZONE
BEGIN:VEVENT
DTSTART;TZID=Europe/Amsterdam:20260103T130000
DTEND;TZID=Europe/Amsterdam:20260103T220000
DTSTAMP:20260421T185818
CREATED:20251208T130718Z
LAST-MODIFIED:20251208T130718Z
UID:54608-1767445200-1767477600@vv-sds.nl
SUMMARY:SDS-nijjierssit
DESCRIPTION:
URL:https://vv-sds.nl/evenemint/sds-nijjierssit-3/
END:VEVENT
BEGIN:VEVENT
DTSTART;TZID=Europe/Amsterdam:20260105T194400
DTEND;TZID=Europe/Amsterdam:20260105T194400
DTSTAMP:20260421T185818
CREATED:20251215T012313Z
LAST-MODIFIED:20251215T012325Z
UID:54657-1767642240-1767642240@vv-sds.nl
SUMMARY:SDS/Nijland JO19-1 yn de foarronde fan it OFK
DESCRIPTION:Poule 13:\nSC Stiens 2\nHeerenveense Boys JO19-1\nSDS/Nijland JO19-1\nGolden Oldies 1\nBroekster Boys 1\nHaskerland 2 \n19.44 oere: sc Stiens 2 – SDS/Nijland JO19-1\n20.26 oere: Heerenveense Boys JO19-1 – SDS/Nijland JO10-1\n21.08 oere: Golden Oldies 1 – SDS/Nijland JO19-1\n21.50 oere SDS/Nijland JO19-1 – Broekster Boys 1\n22.32 oere: SDS/Nijland JO19-1 – Haskerland 2
URL:https://vv-sds.nl/evenemint/sds-jo19-1-yn-de-foarronde-fan-it-ofk/
END:VEVENT
BEGIN:VEVENT
DTSTART;TZID=Europe/Amsterdam:20260110T090000
DTEND;TZID=Europe/Amsterdam:20260110T170000
DTSTAMP:20260421T185818
CREATED:20251007T093930Z
LAST-MODIFIED:20251007T093930Z
UID:53976-1768035600-1768064400@vv-sds.nl
SUMMARY:Finales OFK yn Frjentsjer
DESCRIPTION:
URL:https://vv-sds.nl/evenemint/finales-ofk-yn-frjentsjer-3/
END:VEVENT
BEGIN:VEVENT
DTSTART;TZID=Europe/Amsterdam:20260117T143000
DTEND;TZID=Europe/Amsterdam:20260117T143000
DTSTAMP:20260421T185818
CREATED:20250811T033456Z
LAST-MODIFIED:20250811T033510Z
UID:53311-1768660200-1768660200@vv-sds.nl
SUMMARY:Ynhel/beker
DESCRIPTION:
URL:https://vv-sds.nl/evenemint/ynhel-beker-9/
END:VEVENT
BEGIN:VEVENT
DTSTART;TZID=Europe/Amsterdam:20260120T200000
DTEND;TZID=Europe/Amsterdam:20260120T200000
DTSTAMP:20260421T185818
CREATED:20251218T164131Z
LAST-MODIFIED:20251218T164131Z
UID:54687-1768939200-1768939200@vv-sds.nl
SUMMARY:Oefen: SDS 1 - vv Oosterlittens 1
DESCRIPTION:
URL:https://vv-sds.nl/evenemint/oefen-sds-1-vv-oosterlittens-1-2/
END:VEVENT
BEGIN:VEVENT
DTSTART;TZID=Europe/Amsterdam:20260124T143000
DTEND;TZID=Europe/Amsterdam:20260124T143000
DTSTAMP:20260421T185818
CREATED:20250811T033538Z
LAST-MODIFIED:20250811T033538Z
UID:53313-1769265000-1769265000@vv-sds.nl
SUMMARY:Ynhel/beker
DESCRIPTION:
URL:https://vv-sds.nl/evenemint/ynhel-beker-10/
END:VEVENT
BEGIN:VEVENT
DTSTART;TZID=Europe/Amsterdam:20260127T201500
DTEND;TZID=Europe/Amsterdam:20260127T201500
DTSTAMP:20260421T185818
CREATED:20251218T164015Z
LAST-MODIFIED:20260121T164302Z
UID:54685-1769544900-1769544900@vv-sds.nl
SUMMARY:Oefen: SDS 1 - Nijland 1
DESCRIPTION:
URL:https://vv-sds.nl/evenemint/oefen-sds-1-nijland-1-2/
END:VEVENT
BEGIN:VEVENT
DTSTART;TZID=Europe/Amsterdam:20260131T143000
DTEND;TZID=Europe/Amsterdam:20260131T143000
DTSTAMP:20260421T185818
CREATED:20250811T033635Z
LAST-MODIFIED:20250811T033635Z
UID:53315-1769869800-1769869800@vv-sds.nl
SUMMARY:QVC 1 - SDS 1
DESCRIPTION:
URL:https://vv-sds.nl/evenemint/qvc-1-sds-1-2/
END:VEVENT
END:VCALENDAR