BEGIN:VCALENDAR
VERSION:2.0
PRODID:-//SDS - ECPv6.15.20//NONSGML v1.0//EN
CALSCALE:GREGORIAN
METHOD:PUBLISH
X-WR-CALNAME:SDS
X-ORIGINAL-URL:https://vv-sds.nl
X-WR-CALDESC:Evenementen voor SDS
REFRESH-INTERVAL;VALUE=DURATION:PT1H
X-Robots-Tag:noindex
X-PUBLISHED-TTL:PT1H
BEGIN:VTIMEZONE
TZID:Europe/Amsterdam
BEGIN:DAYLIGHT
TZOFFSETFROM:+0100
TZOFFSETTO:+0200
TZNAME:CEST
DTSTART:20240331T010000
END:DAYLIGHT
BEGIN:STANDARD
TZOFFSETFROM:+0200
TZOFFSETTO:+0100
TZNAME:CET
DTSTART:20241027T010000
END:STANDARD
BEGIN:DAYLIGHT
TZOFFSETFROM:+0100
TZOFFSETTO:+0200
TZNAME:CEST
DTSTART:20250330T010000
END:DAYLIGHT
BEGIN:STANDARD
TZOFFSETFROM:+0200
TZOFFSETTO:+0100
TZNAME:CET
DTSTART:20251026T010000
END:STANDARD
BEGIN:DAYLIGHT
TZOFFSETFROM:+0100
TZOFFSETTO:+0200
TZNAME:CEST
DTSTART:20260329T010000
END:DAYLIGHT
BEGIN:STANDARD
TZOFFSETFROM:+0200
TZOFFSETTO:+0100
TZNAME:CET
DTSTART:20261025T010000
END:STANDARD
END:VTIMEZONE
BEGIN:VEVENT
DTSTART;TZID=Europe/Amsterdam:20250405T143000
DTEND;TZID=Europe/Amsterdam:20250405T143000
DTSTAMP:20260422T124044
CREATED:20240810T225820Z
LAST-MODIFIED:20250115T021614Z
UID:49250-1743863400-1743863400@vv-sds.nl
SUMMARY:SDS 1 - Foarút 1
DESCRIPTION:
URL:https://vv-sds.nl/evenemint/sds-1-foarut-1/
END:VEVENT
BEGIN:VEVENT
DTSTART;TZID=Europe/Amsterdam:20250409T130000
DTEND;TZID=Europe/Amsterdam:20250409T130000
DTSTAMP:20260422T124044
CREATED:20250310T162313Z
LAST-MODIFIED:20250310T162313Z
UID:51901-1744203600-1744203600@vv-sds.nl
SUMMARY:Kidsrun by sc Heerenveen
DESCRIPTION:
URL:https://vv-sds.nl/evenemint/kidsrun-by-sc-heerenveen/
END:VEVENT
BEGIN:VEVENT
DTSTART;TZID=Europe/Amsterdam:20250412T143000
DTEND;TZID=Europe/Amsterdam:20250412T143000
DTSTAMP:20260422T124044
CREATED:20240810T225921Z
LAST-MODIFIED:20240810T225921Z
UID:49252-1744468200-1744468200@vv-sds.nl
SUMMARY:SSS'68 1 - SDS 1
DESCRIPTION:
URL:https://vv-sds.nl/evenemint/sss68-1-sds-1/
END:VEVENT
BEGIN:VEVENT
DTSTART;TZID=Europe/Amsterdam:20250419T143000
DTEND;TZID=Europe/Amsterdam:20250419T143000
DTSTAMP:20260422T124044
CREATED:20240810T230036Z
LAST-MODIFIED:20240810T230036Z
UID:49254-1745073000-1745073000@vv-sds.nl
SUMMARY:Ynhel/beker
DESCRIPTION:
URL:https://vv-sds.nl/evenemint/ynhel-beker-6/
END:VEVENT
BEGIN:VEVENT
DTSTART;TZID=Europe/Amsterdam:20250424T200000
DTEND;TZID=Europe/Amsterdam:20250424T200000
DTSTAMP:20260422T124044
CREATED:20250423T203128Z
LAST-MODIFIED:20250423T203128Z
UID:52530-1745524800-1745524800@vv-sds.nl
SUMMARY:Oefen: Ouwe Syl 1 - SDS 1
DESCRIPTION:SDS 1 oefent tsjin de kampioen fan de 5e klasse B.
URL:https://vv-sds.nl/evenemint/oefen-ouwe-syl-1-sds-1/
END:VEVENT
BEGIN:VEVENT
DTSTART;VALUE=DATE:20250426
DTEND;VALUE=DATE:20250427
DTSTAMP:20260422T124044
CREATED:20240810T230058Z
LAST-MODIFIED:20240810T230058Z
UID:49256-1745625600-1745711999@vv-sds.nl
SUMMARY:'Keningsdei'
DESCRIPTION:
URL:https://vv-sds.nl/evenemint/keningsdei/
END:VEVENT
END:VCALENDAR