BEGIN:VCALENDAR
VERSION:2.0
PRODID:-//SDS - ECPv6.15.20//NONSGML v1.0//EN
CALSCALE:GREGORIAN
METHOD:PUBLISH
X-WR-CALNAME:SDS
X-ORIGINAL-URL:https://vv-sds.nl
X-WR-CALDESC:Evenementen voor SDS
REFRESH-INTERVAL;VALUE=DURATION:PT1H
X-Robots-Tag:noindex
X-PUBLISHED-TTL:PT1H
BEGIN:VTIMEZONE
TZID:Europe/Amsterdam
BEGIN:DAYLIGHT
TZOFFSETFROM:+0100
TZOFFSETTO:+0200
TZNAME:CEST
DTSTART:20240331T010000
END:DAYLIGHT
BEGIN:STANDARD
TZOFFSETFROM:+0200
TZOFFSETTO:+0100
TZNAME:CET
DTSTART:20241027T010000
END:STANDARD
BEGIN:DAYLIGHT
TZOFFSETFROM:+0100
TZOFFSETTO:+0200
TZNAME:CEST
DTSTART:20250330T010000
END:DAYLIGHT
BEGIN:STANDARD
TZOFFSETFROM:+0200
TZOFFSETTO:+0100
TZNAME:CET
DTSTART:20251026T010000
END:STANDARD
BEGIN:DAYLIGHT
TZOFFSETFROM:+0100
TZOFFSETTO:+0200
TZNAME:CEST
DTSTART:20260329T010000
END:DAYLIGHT
BEGIN:STANDARD
TZOFFSETFROM:+0200
TZOFFSETTO:+0100
TZNAME:CET
DTSTART:20261025T010000
END:STANDARD
END:VTIMEZONE
BEGIN:VEVENT
DTSTART;VALUE=DATE:20250104
DTEND;VALUE=DATE:20250105
DTSTAMP:20260422T185920
CREATED:20241112T165150Z
LAST-MODIFIED:20241209T161934Z
UID:50516-1735948800-1736035199@vv-sds.nl
SUMMARY:SDS-nijjierssit
DESCRIPTION:Programma SDS-nijjierssit 2025\nOok 2025 willen we graag met leden en belangstellenden goed beginnen:\nzaterdag 4 januari nijjierssit!\nMet muziek\, voetbal\, wandelen\, klaverjassen en nieuw dit jaar: de VV SDS Pub Quiz!\n* Mix toernooi: start 13.00 uur\, opgeven via de site.\n* Klaverjassen: start 13.00 uur\, opgeven voor 4 januari 12.00 uur bij Harm 06-20702345.\n* Nijjiersrin: circa 8 km\, verzamelen 13.45 uur bij entree sportcomplex\, opgeven niet nodig.\n* Pubquiz: start 16.00 uur\, opgeven voor 4 januari 12.00 uur per team (6 spelers) bij Helga 06 – 52628565.\n* Muziek van DJ Baggel rond 17.30 uur om samen het nieuwe jaar feestelijk in te luiden.\nHelga Develing\nFoarsitter vv SDS
URL:https://vv-sds.nl/evenemint/sds-nijjierssit-2/
END:VEVENT
BEGIN:VEVENT
DTSTART;TZID=Europe/Amsterdam:20250108T190000
DTEND;TZID=Europe/Amsterdam:20250108T220000
DTSTAMP:20260422T185920
CREATED:20241225T085233Z
LAST-MODIFIED:20241225T085233Z
UID:51024-1736362800-1736373600@vv-sds.nl
SUMMARY:SDS/Nijland JO19-1 op it OFK
DESCRIPTION:SDS/Nijland JO19-1 mei jûn los yn de foarronde fan it OFK yn Frjentsjer.
URL:https://vv-sds.nl/evenemint/sds-nijland-jo19-1-op-it-ofk/
END:VEVENT
BEGIN:VEVENT
DTSTART;TZID=Europe/Amsterdam:20250109T201500
DTEND;TZID=Europe/Amsterdam:20250109T201500
DTSTAMP:20260422T185920
CREATED:20241212T100040Z
LAST-MODIFIED:20250109T101958Z
UID:50930-1736453700-1736453700@vv-sds.nl
SUMMARY:Oefen: SDS 1 - Heeg 1
DESCRIPTION:De earste oefenwedstriid fan 2025
URL:https://vv-sds.nl/evenemint/oefen-sds-1-heeg-1/
END:VEVENT
BEGIN:VEVENT
DTSTART;VALUE=DATE:20250111
DTEND;VALUE=DATE:20250112
DTSTAMP:20260422T185920
CREATED:20241017T103537Z
LAST-MODIFIED:20241017T103537Z
UID:49989-1736553600-1736639999@vv-sds.nl
SUMMARY:Finales OFK yn Frjentsjer
DESCRIPTION:
URL:https://vv-sds.nl/evenemint/finales-ofk-yn-frjentsjer-2/
END:VEVENT
BEGIN:VEVENT
DTSTART;TZID=Europe/Amsterdam:20250111T143000
DTEND;TZID=Europe/Amsterdam:20250111T143000
DTSTAMP:20260422T185920
CREATED:20240810T225124Z
LAST-MODIFIED:20240810T225124Z
UID:49226-1736605800-1736605800@vv-sds.nl
SUMMARY:Ynhel/beker
DESCRIPTION:
URL:https://vv-sds.nl/evenemint/ynhel-beker-3/
END:VEVENT
BEGIN:VEVENT
DTSTART;TZID=Europe/Amsterdam:20250118T143000
DTEND;TZID=Europe/Amsterdam:20250118T143000
DTSTAMP:20260422T185920
CREATED:20240810T225156Z
LAST-MODIFIED:20250115T021754Z
UID:49228-1737210600-1737210600@vv-sds.nl
SUMMARY:SDS 1 - DTD 1
DESCRIPTION:
URL:https://vv-sds.nl/evenemint/sds-1-dtd-1/
END:VEVENT
BEGIN:VEVENT
DTSTART;TZID=Europe/Amsterdam:20250125T143000
DTEND;TZID=Europe/Amsterdam:20250125T143000
DTSTAMP:20260422T185920
CREATED:20240810T225231Z
LAST-MODIFIED:20240810T225231Z
UID:49230-1737815400-1737815400@vv-sds.nl
SUMMARY:sf Deinum 1 - SDS 1
DESCRIPTION:
URL:https://vv-sds.nl/evenemint/sf-deinum-1-sds-1-2/
END:VEVENT
END:VCALENDAR