BEGIN:VCALENDAR
VERSION:2.0
PRODID:-//SDS - ECPv6.15.20//NONSGML v1.0//EN
CALSCALE:GREGORIAN
METHOD:PUBLISH
X-ORIGINAL-URL:https://vv-sds.nl
X-WR-CALDESC:Evenementen voor SDS
REFRESH-INTERVAL;VALUE=DURATION:PT1H
X-Robots-Tag:noindex
X-PUBLISHED-TTL:PT1H
BEGIN:VTIMEZONE
TZID:Europe/Amsterdam
BEGIN:DAYLIGHT
TZOFFSETFROM:+0100
TZOFFSETTO:+0200
TZNAME:CEST
DTSTART:20230326T010000
END:DAYLIGHT
BEGIN:STANDARD
TZOFFSETFROM:+0200
TZOFFSETTO:+0100
TZNAME:CET
DTSTART:20231029T010000
END:STANDARD
BEGIN:DAYLIGHT
TZOFFSETFROM:+0100
TZOFFSETTO:+0200
TZNAME:CEST
DTSTART:20240331T010000
END:DAYLIGHT
BEGIN:STANDARD
TZOFFSETFROM:+0200
TZOFFSETTO:+0100
TZNAME:CET
DTSTART:20241027T010000
END:STANDARD
BEGIN:DAYLIGHT
TZOFFSETFROM:+0100
TZOFFSETTO:+0200
TZNAME:CEST
DTSTART:20250330T010000
END:DAYLIGHT
BEGIN:STANDARD
TZOFFSETFROM:+0200
TZOFFSETTO:+0100
TZNAME:CET
DTSTART:20251026T010000
END:STANDARD
END:VTIMEZONE
BEGIN:VEVENT
DTSTART;TZID=Europe/Amsterdam:20241207T140000
DTEND;TZID=Europe/Amsterdam:20241207T140000
DTSTAMP:20260423T001941
CREATED:20240810T224955Z
LAST-MODIFIED:20241206T100933Z
UID:49222-1733580000-1733580000@vv-sds.nl
SUMMARY:SDS 1 - SSS'68 1
DESCRIPTION:
URL:https://vv-sds.nl/evenemint/sds-1-sss68-1/
END:VEVENT
BEGIN:VEVENT
DTSTART;TZID=Europe/Amsterdam:20241214T143000
DTEND;TZID=Europe/Amsterdam:20241214T143000
DTSTAMP:20260423T001941
CREATED:20240810T225053Z
LAST-MODIFIED:20240810T225053Z
UID:49224-1734186600-1734186600@vv-sds.nl
SUMMARY:Ynhel/beker
DESCRIPTION:
URL:https://vv-sds.nl/evenemint/ynhel-beker-2/
END:VEVENT
BEGIN:VEVENT
DTSTART;TZID=Europe/Amsterdam:20241221T160000
DTEND;TZID=Europe/Amsterdam:20241221T220000
DTSTAMP:20260423T001941
CREATED:20241017T103141Z
LAST-MODIFIED:20241218T030519Z
UID:49987-1734796800-1734818400@vv-sds.nl
SUMMARY:Krystsealtoernoai yn Frjentsjer
DESCRIPTION:It tradisjoniele Krystsealtoernoai yn Frjentsjer wat net mear mei de kryst organiseare wurdt\, mar de sneons der foar. \nSjoch hjir foar it hiele programma.
URL:https://vv-sds.nl/evenemint/krystsealtoernoai-yn-frjentsjer/
END:VEVENT
BEGIN:VEVENT
DTSTART;TZID=Europe/Amsterdam:20241230T100000
DTEND;TZID=Europe/Amsterdam:20241230T100000
DTSTAMP:20260423T001941
CREATED:20241227T160217Z
LAST-MODIFIED:20241227T160217Z
UID:51032-1735552800-1735552800@vv-sds.nl
SUMMARY:SDS/Nijland JO15-1 op it OFK
DESCRIPTION:De fuotballers fan de JO15-1 stride hjoed yn de foarronde op it OFK yn Frjentsjer.
URL:https://vv-sds.nl/evenemint/sds-nijland-jo15-1-op-it-ofk/
END:VEVENT
END:VCALENDAR