BEGIN:VCALENDAR
VERSION:2.0
PRODID:-//SDS - ECPv6.15.20//NONSGML v1.0//EN
CALSCALE:GREGORIAN
METHOD:PUBLISH
X-WR-CALNAME:SDS
X-ORIGINAL-URL:https://vv-sds.nl
X-WR-CALDESC:Evenementen voor SDS
REFRESH-INTERVAL;VALUE=DURATION:PT1H
X-Robots-Tag:noindex
X-PUBLISHED-TTL:PT1H
BEGIN:VTIMEZONE
TZID:Europe/Amsterdam
BEGIN:DAYLIGHT
TZOFFSETFROM:+0100
TZOFFSETTO:+0200
TZNAME:CEST
DTSTART:20230326T010000
END:DAYLIGHT
BEGIN:STANDARD
TZOFFSETFROM:+0200
TZOFFSETTO:+0100
TZNAME:CET
DTSTART:20231029T010000
END:STANDARD
BEGIN:DAYLIGHT
TZOFFSETFROM:+0100
TZOFFSETTO:+0200
TZNAME:CEST
DTSTART:20240331T010000
END:DAYLIGHT
BEGIN:STANDARD
TZOFFSETFROM:+0200
TZOFFSETTO:+0100
TZNAME:CET
DTSTART:20241027T010000
END:STANDARD
BEGIN:DAYLIGHT
TZOFFSETFROM:+0100
TZOFFSETTO:+0200
TZNAME:CEST
DTSTART:20250330T010000
END:DAYLIGHT
BEGIN:STANDARD
TZOFFSETFROM:+0200
TZOFFSETTO:+0100
TZNAME:CET
DTSTART:20251026T010000
END:STANDARD
END:VTIMEZONE
BEGIN:VEVENT
DTSTART;TZID=Europe/Amsterdam:20241102T143000
DTEND;TZID=Europe/Amsterdam:20241102T143000
DTSTAMP:20260423T002003
CREATED:20240810T224709Z
LAST-MODIFIED:20240810T224709Z
UID:49212-1730557800-1730557800@vv-sds.nl
SUMMARY:Waterpoort Boys 1 - SDS 1
DESCRIPTION:
URL:https://vv-sds.nl/evenemint/waterpoort-boys-1-sds-1-3/
END:VEVENT
BEGIN:VEVENT
DTSTART;TZID=Europe/Amsterdam:20241107T203000
DTEND;TZID=Europe/Amsterdam:20241107T223000
DTSTAMP:20260423T002003
CREATED:20241001T060937Z
LAST-MODIFIED:20241001T060937Z
UID:49718-1731011400-1731018600@vv-sds.nl
SUMMARY:SDS-ledengearkomst
DESCRIPTION:Útnoeging SDS-ledengearkomst\nop tongersdei\n7 novimber 2024\nJûns om 20.30 oere yn’e kantine op Sportpark de Skoalleseize.\n\nFoarearste wurklist:\n\n1. Iepening\n2. Fêststellen wurklist\n3. Meidielings en/of reaksjes op de notulen en it jierferslach **\n4. Ferslach fan de sponsorkommisje\n5. Ferslach fan de jongerein kommisje\n6. Jierferslach fan de ponghâlder en fêststellen begrúting\n7. Ferslach kaskommisje en beneamen nij kommisjelid\nSKOFT\n8. Bestjoersferkiezing:\nÔftredend:\nTechnyske Saken Senioaren\n: Jaap Toering\nOandroegen: Kerst Hoekstra\nÔftredend:\nPonghâlder\nHenk Postma\nOandroegend: Lourens van der Pol.\nÔftredend:\nHaad Sponsorkommisje:\nBauke de Boer\nOandroegend:\nvacant\n9. Skoalleseize\n10. Rûnfraach\n11. Slúting\n**\nIt ferslach fan de foarige ledengearkomste en it jierferslach kinne jimme\nopfreegje fia sekretaris@vv-sds.nl \n\nSterk\nDoor\nSamenspel; dus oan’t sjen op tongersdei 7 novimber! \n\nIt bestjoer fan SDS\n​
URL:https://vv-sds.nl/evenemint/sds-ledengearkomst-3/
END:VEVENT
BEGIN:VEVENT
DTSTART;TZID=Europe/Amsterdam:20241109T143000
DTEND;TZID=Europe/Amsterdam:20241109T143000
DTSTAMP:20260423T002003
CREATED:20240810T224740Z
LAST-MODIFIED:20240915T135900Z
UID:49214-1731162600-1731162600@vv-sds.nl
SUMMARY:SDS 1 - MKV'29 1
DESCRIPTION:
URL:https://vv-sds.nl/evenemint/sds-1-mkv29-1/
END:VEVENT
BEGIN:VEVENT
DTSTART;TZID=Europe/Amsterdam:20241109T160000
DTEND;TZID=Europe/Amsterdam:20241109T210000
DTSTAMP:20260423T002003
CREATED:20241025T110726Z
LAST-MODIFIED:20241025T111420Z
UID:50192-1731168000-1731186000@vv-sds.nl
SUMMARY:Novimber Fest by SDS
DESCRIPTION:
URL:https://vv-sds.nl/evenemint/novimber-fest-by-sds/
END:VEVENT
BEGIN:VEVENT
DTSTART;TZID=Europe/Amsterdam:20241116T143000
DTEND;TZID=Europe/Amsterdam:20241116T143000
DTSTAMP:20260423T002003
CREATED:20240810T224815Z
LAST-MODIFIED:20240810T224815Z
UID:49216-1731767400-1731767400@vv-sds.nl
SUMMARY:Foarút 1 - SDS 1
DESCRIPTION:
URL:https://vv-sds.nl/evenemint/foarut-1-sds-1/
END:VEVENT
BEGIN:VEVENT
DTSTART;TZID=Europe/Amsterdam:20241123T143000
DTEND;TZID=Europe/Amsterdam:20241123T143000
DTSTAMP:20260423T002003
CREATED:20240810T224845Z
LAST-MODIFIED:20240915T135820Z
UID:49218-1732372200-1732372200@vv-sds.nl
SUMMARY:SDS 1 - Wykels/Hallum 1
DESCRIPTION:
URL:https://vv-sds.nl/evenemint/sds-1-wykels-hallum-1/
END:VEVENT
BEGIN:VEVENT
DTSTART;TZID=Europe/Amsterdam:20241130T143000
DTEND;TZID=Europe/Amsterdam:20241130T143000
DTSTAMP:20260423T002003
CREATED:20240810T224921Z
LAST-MODIFIED:20240810T224921Z
UID:49220-1732977000-1732977000@vv-sds.nl
SUMMARY:Marrum 1 - SDS 1
DESCRIPTION:
URL:https://vv-sds.nl/evenemint/marrum-1-sds-1/
END:VEVENT
END:VCALENDAR