BEGIN:VCALENDAR
VERSION:2.0
PRODID:-//SDS - ECPv6.15.20//NONSGML v1.0//EN
CALSCALE:GREGORIAN
METHOD:PUBLISH
X-ORIGINAL-URL:https://vv-sds.nl
X-WR-CALDESC:Evenementen voor SDS
REFRESH-INTERVAL;VALUE=DURATION:PT1H
X-Robots-Tag:noindex
X-PUBLISHED-TTL:PT1H
BEGIN:VTIMEZONE
TZID:Europe/Amsterdam
BEGIN:DAYLIGHT
TZOFFSETFROM:+0100
TZOFFSETTO:+0200
TZNAME:CEST
DTSTART:20230326T010000
END:DAYLIGHT
BEGIN:STANDARD
TZOFFSETFROM:+0200
TZOFFSETTO:+0100
TZNAME:CET
DTSTART:20231029T010000
END:STANDARD
BEGIN:DAYLIGHT
TZOFFSETFROM:+0100
TZOFFSETTO:+0200
TZNAME:CEST
DTSTART:20240331T010000
END:DAYLIGHT
BEGIN:STANDARD
TZOFFSETFROM:+0200
TZOFFSETTO:+0100
TZNAME:CET
DTSTART:20241027T010000
END:STANDARD
BEGIN:DAYLIGHT
TZOFFSETFROM:+0100
TZOFFSETTO:+0200
TZNAME:CEST
DTSTART:20250330T010000
END:DAYLIGHT
BEGIN:STANDARD
TZOFFSETFROM:+0200
TZOFFSETTO:+0100
TZNAME:CET
DTSTART:20251026T010000
END:STANDARD
END:VTIMEZONE
BEGIN:VEVENT
DTSTART;TZID=Europe/Amsterdam:20241005T143000
DTEND;TZID=Europe/Amsterdam:20241005T143000
DTSTAMP:20260423T014706
CREATED:20240810T224434Z
LAST-MODIFIED:20240915T135715Z
UID:49204-1728138600-1728138600@vv-sds.nl
SUMMARY:SDS 1 - Makkum 1
DESCRIPTION:
URL:https://vv-sds.nl/evenemint/sds-1-makkum-1-2/
END:VEVENT
BEGIN:VEVENT
DTSTART;TZID=Europe/Amsterdam:20241012T143000
DTEND;TZID=Europe/Amsterdam:20241012T143000
DTSTAMP:20260423T014706
CREATED:20240810T224459Z
LAST-MODIFIED:20240810T224459Z
UID:49206-1728743400-1728743400@vv-sds.nl
SUMMARY:IJVC 1 - SDS 1
DESCRIPTION:
URL:https://vv-sds.nl/evenemint/ijvc-1-sds-1-2/
END:VEVENT
BEGIN:VEVENT
DTSTART;TZID=Europe/Amsterdam:20241019T143000
DTEND;TZID=Europe/Amsterdam:20241019T143000
DTSTAMP:20260423T014706
CREATED:20240810T224606Z
LAST-MODIFIED:20240915T135741Z
UID:49208-1729348200-1729348200@vv-sds.nl
SUMMARY:SDS 1 - Irnsum 1
DESCRIPTION:
URL:https://vv-sds.nl/evenemint/sds-1-irnsum-1/
END:VEVENT
BEGIN:VEVENT
DTSTART;TZID=Europe/Amsterdam:20241026T143000
DTEND;TZID=Europe/Amsterdam:20241026T143000
DTSTAMP:20260423T014706
CREATED:20240810T224636Z
LAST-MODIFIED:20240810T224636Z
UID:49210-1729953000-1729953000@vv-sds.nl
SUMMARY:Ynhel/beker
DESCRIPTION:
URL:https://vv-sds.nl/evenemint/ynhel-beker/
END:VEVENT
BEGIN:VEVENT
DTSTART;TZID=Europe/Amsterdam:20241030T140000
DTEND;TZID=Europe/Amsterdam:20241030T170000
DTSTAMP:20260423T014706
CREATED:20241023T115153Z
LAST-MODIFIED:20241023T123008Z
UID:50168-1730296800-1730307600@vv-sds.nl
SUMMARY:Meinte-Sixmatoernoai foar de jeugd
DESCRIPTION:It is hjerstfakansje\, dus dan hawwe wy tradisjoniel it Meinte-Sixmatoernoai foar de jeugd fan de mini’s oant en mei de JO13.\nIt is fan 14.00 – 16.30 oere.\nGraach hjir oanmelde.\nIt leafst sa gau mooglik. \n\nMeinte Sixma hat in soad foar SDS betsjutten
URL:https://vv-sds.nl/evenemint/meinte-sixmatoernoai-foar-de-jeugd/
END:VEVENT
END:VCALENDAR