BEGIN:VCALENDAR
VERSION:2.0
PRODID:-//SDS - ECPv6.15.20//NONSGML v1.0//EN
CALSCALE:GREGORIAN
METHOD:PUBLISH
X-WR-CALNAME:SDS
X-ORIGINAL-URL:https://vv-sds.nl
X-WR-CALDESC:Evenementen voor SDS
REFRESH-INTERVAL;VALUE=DURATION:PT1H
X-Robots-Tag:noindex
X-PUBLISHED-TTL:PT1H
BEGIN:VTIMEZONE
TZID:Europe/Amsterdam
BEGIN:DAYLIGHT
TZOFFSETFROM:+0100
TZOFFSETTO:+0200
TZNAME:CEST
DTSTART:20230326T010000
END:DAYLIGHT
BEGIN:STANDARD
TZOFFSETFROM:+0200
TZOFFSETTO:+0100
TZNAME:CET
DTSTART:20231029T010000
END:STANDARD
BEGIN:DAYLIGHT
TZOFFSETFROM:+0100
TZOFFSETTO:+0200
TZNAME:CEST
DTSTART:20240331T010000
END:DAYLIGHT
BEGIN:STANDARD
TZOFFSETFROM:+0200
TZOFFSETTO:+0100
TZNAME:CET
DTSTART:20241027T010000
END:STANDARD
BEGIN:DAYLIGHT
TZOFFSETFROM:+0100
TZOFFSETTO:+0200
TZNAME:CEST
DTSTART:20250330T010000
END:DAYLIGHT
BEGIN:STANDARD
TZOFFSETFROM:+0200
TZOFFSETTO:+0100
TZNAME:CET
DTSTART:20251026T010000
END:STANDARD
END:VTIMEZONE
BEGIN:VEVENT
DTSTART;TZID=Europe/Amsterdam:20240907T143000
DTEND;TZID=Europe/Amsterdam:20240907T143000
DTSTAMP:20260423T041658
CREATED:20240619T201252Z
LAST-MODIFIED:20240811T011820Z
UID:48871-1725719400-1725719400@vv-sds.nl
SUMMARY:Beker: SDS 1 - CVVO 1
DESCRIPTION:De twadde bekerwedstriid is thús tsjin CVVO 1.
URL:https://vv-sds.nl/evenemint/bekerwedstriid-2/
END:VEVENT
BEGIN:VEVENT
DTSTART;TZID=Europe/Amsterdam:20240914T143000
DTEND;TZID=Europe/Amsterdam:20240914T143000
DTSTAMP:20260423T041658
CREATED:20240619T201331Z
LAST-MODIFIED:20240811T011935Z
UID:48873-1726324200-1726324200@vv-sds.nl
SUMMARY:Beker: Bakhuizen 1 - SDS 1
DESCRIPTION:De tredde bekerwedstriid is út tsjin Bakhuizen 1.
URL:https://vv-sds.nl/evenemint/bekerwedstriid-3/
END:VEVENT
BEGIN:VEVENT
DTSTART;TZID=Europe/Amsterdam:20240921T143000
DTEND;TZID=Europe/Amsterdam:20240921T143000
DTSTAMP:20260423T041658
CREATED:20240810T224116Z
LAST-MODIFIED:20240810T224116Z
UID:49200-1726929000-1726929000@vv-sds.nl
SUMMARY:Scharnegoutum 1 - SDS 1
DESCRIPTION:De earste kompetysjewedstriid.
URL:https://vv-sds.nl/evenemint/scharnegoutum-1-sds-1-2/
END:VEVENT
BEGIN:VEVENT
DTSTART;TZID=Europe/Amsterdam:20240928T143000
DTEND;TZID=Europe/Amsterdam:20240928T143000
DTSTAMP:20260423T041658
CREATED:20240810T224403Z
LAST-MODIFIED:20240915T135641Z
UID:49202-1727533800-1727533800@vv-sds.nl
SUMMARY:SDS 1 - sc Franeker 1
DESCRIPTION:De earste thúswedstriid.
URL:https://vv-sds.nl/evenemint/sds-1-sc-franeker-1/
END:VEVENT
END:VCALENDAR