BEGIN:VCALENDAR
VERSION:2.0
PRODID:-//SDS - ECPv6.15.20//NONSGML v1.0//EN
CALSCALE:GREGORIAN
METHOD:PUBLISH
X-WR-CALNAME:SDS
X-ORIGINAL-URL:https://vv-sds.nl
X-WR-CALDESC:Evenementen voor SDS
REFRESH-INTERVAL;VALUE=DURATION:PT1H
X-Robots-Tag:noindex
X-PUBLISHED-TTL:PT1H
BEGIN:VTIMEZONE
TZID:Europe/Amsterdam
BEGIN:DAYLIGHT
TZOFFSETFROM:+0100
TZOFFSETTO:+0200
TZNAME:CEST
DTSTART:20230326T010000
END:DAYLIGHT
BEGIN:STANDARD
TZOFFSETFROM:+0200
TZOFFSETTO:+0100
TZNAME:CET
DTSTART:20231029T010000
END:STANDARD
BEGIN:DAYLIGHT
TZOFFSETFROM:+0100
TZOFFSETTO:+0200
TZNAME:CEST
DTSTART:20240331T010000
END:DAYLIGHT
BEGIN:STANDARD
TZOFFSETFROM:+0200
TZOFFSETTO:+0100
TZNAME:CET
DTSTART:20241027T010000
END:STANDARD
BEGIN:DAYLIGHT
TZOFFSETFROM:+0100
TZOFFSETTO:+0200
TZNAME:CEST
DTSTART:20250330T010000
END:DAYLIGHT
BEGIN:STANDARD
TZOFFSETFROM:+0200
TZOFFSETTO:+0100
TZNAME:CET
DTSTART:20251026T010000
END:STANDARD
END:VTIMEZONE
BEGIN:VEVENT
DTSTART;TZID=Europe/Amsterdam:20240601T073000
DTEND;TZID=Europe/Amsterdam:20240601T130000
DTSTAMP:20260423T082353
CREATED:20240527T223923Z
LAST-MODIFIED:20240528T055932Z
UID:48719-1717227000-1717246800@vv-sds.nl
SUMMARY:Mei de bus nei de bekerfinale SDS/Nijland JO14-1-Tynaarlo yn Hollandscheveld.
DESCRIPTION:Kommende sneon spilet ST SDS/Nijland JO14-1 de bekerfinale yn Hollandscheveld tsjin Tynaarlo.\nDer giet in bus fanôf 7.30 oere fanôf de Keatsebaen yn Wommels.\nDe ferwachting is om 13.00 oere wer yn Wommels te wêzen.\nMei de beker yn de kofferbak fansels.\nDer kinne 58 man yn de bus en de kosten foar supporters binne €10\,- p.p.\nOpjaan kin by Wesley Hoitinga 0625754826
URL:https://vv-sds.nl/evenemint/mei-de-bus-nei-de-bekerfinale-sds-nijland-jo14-1-tynaarlo-yn-hollandscheveld/
END:VEVENT
BEGIN:VEVENT
DTSTART;TZID=Europe/Amsterdam:20240601T093000
DTEND;TZID=Europe/Amsterdam:20240601T130000
DTSTAMP:20260423T082353
CREATED:20240516T035714Z
LAST-MODIFIED:20240516T035714Z
UID:48629-1717234200-1717246800@vv-sds.nl
SUMMARY:Slotdei SDS-jeugd
DESCRIPTION:De jeugd fan SDS dy’t meidwaan wol en âlders dy’t meihelpe kinne dy meie harren hjir opjaan.\nGraach opjaan foar 26 maaie!
URL:https://vv-sds.nl/evenemint/slotdei-sds-jeugd/
END:VEVENT
BEGIN:VEVENT
DTSTART;TZID=Europe/Amsterdam:20240612T190000
DTEND;TZID=Europe/Amsterdam:20240612T190000
DTSTAMP:20260423T082353
CREATED:20240417T033527Z
LAST-MODIFIED:20240528T031709Z
UID:48399-1718218800-1718218800@vv-sds.nl
SUMMARY:SDS EK-League ynleverje foar 19.00 oere
DESCRIPTION:Hjoed is it de lêste dei dat je it formulier foar de SDS EK-League ynleverje kinne.\nDoch it noch gau dan kinne wy gau los! \nDielnameformulier SDS-EK-League 2024(yn PDF)\nDielnameformulier SDS EK-League 2024 (yn Word)
URL:https://vv-sds.nl/evenemint/sds-ek-league-ynleverje-foar-19-00-oere/
END:VEVENT
BEGIN:VEVENT
DTSTART;TZID=Europe/Amsterdam:20240622T100000
DTEND;TZID=Europe/Amsterdam:20240622T170000
DTSTAMP:20260423T082353
CREATED:20240618T000049Z
LAST-MODIFIED:20240618T000049Z
UID:48838-1719050400-1719075600@vv-sds.nl
SUMMARY:Midsimmercup yn Dronryp
DESCRIPTION:Kommende sneon is wer de jierlijkse Midsimmercup yn Dronryp.\nSDS docht dizze kear net mei oan dit 5 tsjin 5 toernoai.\nDe organisaasje slagget der spitich genôch hieltiten minder yn om teams nei Dronryp te krijen wylst it wier in alderaardichst toernoai is.
URL:https://vv-sds.nl/evenemint/midsimmercup-yn-dronryp-2/
END:VEVENT
BEGIN:VEVENT
DTSTART;TZID=Europe/Amsterdam:20240626T190000
DTEND;TZID=Europe/Amsterdam:20240626T190000
DTSTAMP:20260423T082353
CREATED:20240526T141539Z
LAST-MODIFIED:20240526T141539Z
UID:48712-1719428400-1719428400@vv-sds.nl
SUMMARY:Oefen: AZ MO17 - FC Groningen MO17
DESCRIPTION:De jeugd fan AZ MO17 sil yn Easterein oefenje tsjin FC Groningen MO17.\nDan hoefe sy beide net sa fier te riden en kinne wy fêst in alderaardichst potsje fuotbal sjen.\nDe wedstriid begjint om 19.00 oere.
URL:https://vv-sds.nl/evenemint/oefen-az-mo17-fc-groningen-mo17/
END:VEVENT
END:VCALENDAR