BEGIN:VCALENDAR
VERSION:2.0
PRODID:-//SDS - ECPv6.15.20//NONSGML v1.0//EN
CALSCALE:GREGORIAN
METHOD:PUBLISH
X-ORIGINAL-URL:https://vv-sds.nl
X-WR-CALDESC:Evenementen voor SDS
REFRESH-INTERVAL;VALUE=DURATION:PT1H
X-Robots-Tag:noindex
X-PUBLISHED-TTL:PT1H
BEGIN:VTIMEZONE
TZID:Europe/Amsterdam
BEGIN:DAYLIGHT
TZOFFSETFROM:+0100
TZOFFSETTO:+0200
TZNAME:CEST
DTSTART:20230326T010000
END:DAYLIGHT
BEGIN:STANDARD
TZOFFSETFROM:+0200
TZOFFSETTO:+0100
TZNAME:CET
DTSTART:20231029T010000
END:STANDARD
BEGIN:DAYLIGHT
TZOFFSETFROM:+0100
TZOFFSETTO:+0200
TZNAME:CEST
DTSTART:20240331T010000
END:DAYLIGHT
BEGIN:STANDARD
TZOFFSETFROM:+0200
TZOFFSETTO:+0100
TZNAME:CET
DTSTART:20241027T010000
END:STANDARD
BEGIN:DAYLIGHT
TZOFFSETFROM:+0100
TZOFFSETTO:+0200
TZNAME:CEST
DTSTART:20250330T010000
END:DAYLIGHT
BEGIN:STANDARD
TZOFFSETFROM:+0200
TZOFFSETTO:+0100
TZNAME:CET
DTSTART:20251026T010000
END:STANDARD
END:VTIMEZONE
BEGIN:VEVENT
DTSTART;TZID=Europe/Amsterdam:20240510T193000
DTEND;TZID=Europe/Amsterdam:20240510T193000
DTSTAMP:20260423T093249
CREATED:20240213T172047Z
LAST-MODIFIED:20240213T172047Z
UID:47359-1715369400-1715369400@vv-sds.nl
SUMMARY:SDS manlju 1 7x7 thús
DESCRIPTION:De SDS-manlju 18+1 spylje jûn thús yn Easterein:
URL:https://vv-sds.nl/evenemint/sds-manlju-1-7x7-thus/
END:VEVENT
BEGIN:VEVENT
DTSTART;TZID=Europe/Amsterdam:20240511T150000
DTEND;TZID=Europe/Amsterdam:20240511T150000
DTSTAMP:20260423T093249
CREATED:20231220T232656Z
LAST-MODIFIED:20240508T091545Z
UID:46752-1715439600-1715439600@vv-sds.nl
SUMMARY:sv Oosterwolde 1 - SDS 1
DESCRIPTION:De ien nei lêste wedstriid fan it seizoen. Alle wedstriden yn de 3e-Klasse A begjinne hjoed om 15.00 oere.
URL:https://vv-sds.nl/evenemint/sv-oosterwolde-1-sds-1/
END:VEVENT
BEGIN:VEVENT
DTSTART;TZID=Europe/Amsterdam:20240518T143000
DTEND;TZID=Europe/Amsterdam:20240518T143000
DTSTAMP:20260423T093249
CREATED:20231220T232739Z
LAST-MODIFIED:20240514T164202Z
UID:46754-1716042600-1716042600@vv-sds.nl
SUMMARY:SDS 1 - Nijland 1
DESCRIPTION:Dizze wedstriid begjint om 14.30 oere.
URL:https://vv-sds.nl/evenemint/sds-1-nijland-1/
END:VEVENT
BEGIN:VEVENT
DTSTART;TZID=Europe/Amsterdam:20240518T163000
DTEND;TZID=Europe/Amsterdam:20240518T220000
DTSTAMP:20260423T093249
CREATED:20240509T095048Z
LAST-MODIFIED:20240509T095048Z
UID:48556-1716049800-1716069600@vv-sds.nl
SUMMARY:SDS-slotfeest mei pizza's en DJ Pitward
DESCRIPTION:﻿﻿Laden…
URL:https://vv-sds.nl/evenemint/sds-slotfeest-mei-pizzas-en-dj-pitward/
END:VEVENT
BEGIN:VEVENT
DTSTART;TZID=Europe/Amsterdam:20240524T190000
DTEND;TZID=Europe/Amsterdam:20240524T190000
DTSTAMP:20260423T093249
CREATED:20240213T172558Z
LAST-MODIFIED:20240213T172558Z
UID:47362-1716577200-1716577200@vv-sds.nl
SUMMARY:SDS manlju 2 en 3 thús 7x7
DESCRIPTION:SDS 18+2 en 18+3 spylje jûn beide thús yn Easterein:
URL:https://vv-sds.nl/evenemint/sds-manlju-2-en-3-thus-7x7/
END:VEVENT
END:VCALENDAR