BEGIN:VCALENDAR
VERSION:2.0
PRODID:-//SDS - ECPv6.15.20//NONSGML v1.0//EN
CALSCALE:GREGORIAN
METHOD:PUBLISH
X-WR-CALNAME:SDS
X-ORIGINAL-URL:https://vv-sds.nl
X-WR-CALDESC:Evenementen voor SDS
REFRESH-INTERVAL;VALUE=DURATION:PT1H
X-Robots-Tag:noindex
X-PUBLISHED-TTL:PT1H
BEGIN:VTIMEZONE
TZID:Europe/Amsterdam
BEGIN:DAYLIGHT
TZOFFSETFROM:+0100
TZOFFSETTO:+0200
TZNAME:CEST
DTSTART:20230326T010000
END:DAYLIGHT
BEGIN:STANDARD
TZOFFSETFROM:+0200
TZOFFSETTO:+0100
TZNAME:CET
DTSTART:20231029T010000
END:STANDARD
BEGIN:DAYLIGHT
TZOFFSETFROM:+0100
TZOFFSETTO:+0200
TZNAME:CEST
DTSTART:20240331T010000
END:DAYLIGHT
BEGIN:STANDARD
TZOFFSETFROM:+0200
TZOFFSETTO:+0100
TZNAME:CET
DTSTART:20241027T010000
END:STANDARD
BEGIN:DAYLIGHT
TZOFFSETFROM:+0100
TZOFFSETTO:+0200
TZNAME:CEST
DTSTART:20250330T010000
END:DAYLIGHT
BEGIN:STANDARD
TZOFFSETFROM:+0200
TZOFFSETTO:+0100
TZNAME:CET
DTSTART:20251026T010000
END:STANDARD
END:VTIMEZONE
BEGIN:VEVENT
DTSTART;TZID=Europe/Amsterdam:20240406T150000
DTEND;TZID=Europe/Amsterdam:20240406T150000
DTSTAMP:20260423T110850
CREATED:20231220T232102Z
LAST-MODIFIED:20231220T232102Z
UID:46746-1712415600-1712415600@vv-sds.nl
SUMMARY:Workum 1 - SDS 1
DESCRIPTION:
URL:https://vv-sds.nl/evenemint/workum-1-sds-1/
END:VEVENT
BEGIN:VEVENT
DTSTART;TZID=Europe/Amsterdam:20240413T150000
DTEND;TZID=Europe/Amsterdam:20240413T150000
DTSTAMP:20260423T110850
CREATED:20231220T232515Z
LAST-MODIFIED:20240127T033540Z
UID:46748-1713020400-1713020400@vv-sds.nl
SUMMARY:SDS 1 - DWP 1
DESCRIPTION:
URL:https://vv-sds.nl/evenemint/sds-1-dwp-1/
END:VEVENT
BEGIN:VEVENT
DTSTART;TZID=Europe/Amsterdam:20240419T193000
DTEND;TZID=Europe/Amsterdam:20240419T193000
DTSTAMP:20260423T110850
CREATED:20240213T171746Z
LAST-MODIFIED:20240213T171746Z
UID:47356-1713555000-1713555000@vv-sds.nl
SUMMARY:SDS Vr.1 7x7 thús
DESCRIPTION:De froulju fan SDS Vr.1 7×7 spylje thús yn Easterein.
URL:https://vv-sds.nl/evenemint/sds-vr-1-7x7-thus/
END:VEVENT
BEGIN:VEVENT
DTSTART;TZID=Europe/Amsterdam:20240420T143000
DTEND;TZID=Europe/Amsterdam:20240420T143000
DTSTAMP:20260423T110850
CREATED:20231220T232603Z
LAST-MODIFIED:20231220T232603Z
UID:46750-1713623400-1713623400@vv-sds.nl
SUMMARY:IJVC 1 - SDS 1
DESCRIPTION:
URL:https://vv-sds.nl/evenemint/ijvc-1-sds-1/
END:VEVENT
END:VCALENDAR