BEGIN:VCALENDAR
VERSION:2.0
PRODID:-//SDS - ECPv6.15.20//NONSGML v1.0//EN
CALSCALE:GREGORIAN
METHOD:PUBLISH
X-WR-CALNAME:SDS
X-ORIGINAL-URL:https://vv-sds.nl
X-WR-CALDESC:Evenementen voor SDS
REFRESH-INTERVAL;VALUE=DURATION:PT1H
X-Robots-Tag:noindex
X-PUBLISHED-TTL:PT1H
BEGIN:VTIMEZONE
TZID:Europe/Amsterdam
BEGIN:DAYLIGHT
TZOFFSETFROM:+0100
TZOFFSETTO:+0200
TZNAME:CEST
DTSTART:20220327T010000
END:DAYLIGHT
BEGIN:STANDARD
TZOFFSETFROM:+0200
TZOFFSETTO:+0100
TZNAME:CET
DTSTART:20221030T010000
END:STANDARD
BEGIN:DAYLIGHT
TZOFFSETFROM:+0100
TZOFFSETTO:+0200
TZNAME:CEST
DTSTART:20230326T010000
END:DAYLIGHT
BEGIN:STANDARD
TZOFFSETFROM:+0200
TZOFFSETTO:+0100
TZNAME:CET
DTSTART:20231029T010000
END:STANDARD
BEGIN:DAYLIGHT
TZOFFSETFROM:+0100
TZOFFSETTO:+0200
TZNAME:CEST
DTSTART:20240331T010000
END:DAYLIGHT
BEGIN:STANDARD
TZOFFSETFROM:+0200
TZOFFSETTO:+0100
TZNAME:CET
DTSTART:20241027T010000
END:STANDARD
END:VTIMEZONE
BEGIN:VEVENT
DTSTART;TZID=Europe/Amsterdam:20231103T193000
DTEND;TZID=Europe/Amsterdam:20231103T220000
DTSTAMP:20260423T222759
CREATED:20230915T123212Z
LAST-MODIFIED:20230915T123212Z
UID:45314-1699039800-1699048800@vv-sds.nl
SUMMARY:SDS manlju 7x7 spilet thús
DESCRIPTION:De manlju fan SDS 7×7 spylje jûn thús. Dit is it programma:
URL:https://vv-sds.nl/evenemint/sds-manlju-7x7-spilet-thus/
END:VEVENT
BEGIN:VEVENT
DTSTART;TZID=Europe/Amsterdam:20231104T143000
DTEND;TZID=Europe/Amsterdam:20231104T143000
DTSTAMP:20260423T222759
CREATED:20230814T023901Z
LAST-MODIFIED:20230814T023901Z
UID:45100-1699108200-1699108200@vv-sds.nl
SUMMARY:CVVO 1 - SDS 1
DESCRIPTION:
URL:https://vv-sds.nl/evenemint/cvvo-1-sds-1/
END:VEVENT
BEGIN:VEVENT
DTSTART;TZID=Europe/Amsterdam:20231109T203000
DTEND;TZID=Europe/Amsterdam:20231109T203000
DTSTAMP:20260423T222759
CREATED:20231021T234221Z
LAST-MODIFIED:20231021T234221Z
UID:45773-1699561800-1699561800@vv-sds.nl
SUMMARY:SDS-ledengearkomst
DESCRIPTION:20.30 uur in de Skoalleseize.\nKomt allen!\nAgenda volgt
URL:https://vv-sds.nl/evenemint/sds-ledengearkomst-2/
END:VEVENT
BEGIN:VEVENT
DTSTART;TZID=Europe/Amsterdam:20231111T150000
DTEND;TZID=Europe/Amsterdam:20231111T150000
DTSTAMP:20260423T222759
CREATED:20230814T023945Z
LAST-MODIFIED:20230920T231146Z
UID:45102-1699714800-1699714800@vv-sds.nl
SUMMARY:SDS 1 - Workum 1
DESCRIPTION:
URL:https://vv-sds.nl/evenemint/sds-1-workum-1/
END:VEVENT
BEGIN:VEVENT
DTSTART;TZID=Europe/Amsterdam:20231117T193000
DTEND;TZID=Europe/Amsterdam:20231117T220000
DTSTAMP:20260423T222759
CREATED:20230915T123548Z
LAST-MODIFIED:20231108T092210Z
UID:45317-1700249400-1700258400@vv-sds.nl
SUMMARY:SDS froulju 7x7 spilet thús
DESCRIPTION:De froulju fan SDS 7×7 spylje jûn thús. Dit is it programma:
URL:https://vv-sds.nl/evenemint/sds-froulju-7x7-spilet-thus/
END:VEVENT
BEGIN:VEVENT
DTSTART;TZID=Europe/Amsterdam:20231118T143000
DTEND;TZID=Europe/Amsterdam:20231118T143000
DTSTAMP:20260423T222759
CREATED:20230814T024618Z
LAST-MODIFIED:20230814T024618Z
UID:45105-1700317800-1700317800@vv-sds.nl
SUMMARY:DWP 1 - SDS 1
DESCRIPTION:
URL:https://vv-sds.nl/evenemint/dwp-1-sds-1-2/
END:VEVENT
BEGIN:VEVENT
DTSTART;TZID=Europe/Amsterdam:20231125T150000
DTEND;TZID=Europe/Amsterdam:20231125T150000
DTSTAMP:20260423T222759
CREATED:20230814T024719Z
LAST-MODIFIED:20230920T231226Z
UID:45107-1700924400-1700924400@vv-sds.nl
SUMMARY:SDS 1 - IJVC 1
DESCRIPTION:
URL:https://vv-sds.nl/evenemint/sds-1-ijvc-1/
END:VEVENT
END:VCALENDAR