BEGIN:VCALENDAR
VERSION:2.0
PRODID:-//SDS - ECPv6.15.20//NONSGML v1.0//EN
CALSCALE:GREGORIAN
METHOD:PUBLISH
X-WR-CALNAME:SDS
X-ORIGINAL-URL:https://vv-sds.nl
X-WR-CALDESC:Evenementen voor SDS
REFRESH-INTERVAL;VALUE=DURATION:PT1H
X-Robots-Tag:noindex
X-PUBLISHED-TTL:PT1H
BEGIN:VTIMEZONE
TZID:Europe/Amsterdam
BEGIN:DAYLIGHT
TZOFFSETFROM:+0100
TZOFFSETTO:+0200
TZNAME:CEST
DTSTART:20220327T010000
END:DAYLIGHT
BEGIN:STANDARD
TZOFFSETFROM:+0200
TZOFFSETTO:+0100
TZNAME:CET
DTSTART:20221030T010000
END:STANDARD
BEGIN:DAYLIGHT
TZOFFSETFROM:+0100
TZOFFSETTO:+0200
TZNAME:CEST
DTSTART:20230326T010000
END:DAYLIGHT
BEGIN:STANDARD
TZOFFSETFROM:+0200
TZOFFSETTO:+0100
TZNAME:CET
DTSTART:20231029T010000
END:STANDARD
BEGIN:DAYLIGHT
TZOFFSETFROM:+0100
TZOFFSETTO:+0200
TZNAME:CEST
DTSTART:20240331T010000
END:DAYLIGHT
BEGIN:STANDARD
TZOFFSETFROM:+0200
TZOFFSETTO:+0100
TZNAME:CET
DTSTART:20241027T010000
END:STANDARD
END:VTIMEZONE
BEGIN:VEVENT
DTSTART;TZID=Europe/Amsterdam:20230603T090000
DTEND;TZID=Europe/Amsterdam:20230603T130000
DTSTAMP:20260424T063020
CREATED:20230516T172200Z
LAST-MODIFIED:20230516T172200Z
UID:44583-1685782800-1685797200@vv-sds.nl
SUMMARY:SDS-slotdei foar de jeugd
DESCRIPTION:Op sneon 3 juny is wer ús jierlijkse SDS-slotdei foar de jeugd.
URL:https://vv-sds.nl/evenemint/sds-slotdei-foar-de-jeugd/
END:VEVENT
BEGIN:VEVENT
DTSTART;TZID=Europe/Amsterdam:20230624T100000
DTEND;TZID=Europe/Amsterdam:20230624T170000
DTSTAMP:20260424T063020
CREATED:20230605T175017Z
LAST-MODIFIED:20230605T175017Z
UID:44766-1687600800-1687626000@vv-sds.nl
SUMMARY:Midsimmercup yn Dronryp
DESCRIPTION:Hjoed is de Midsimmercup yn Dronryp. Dit is in 5 tsjin 5-toernoai wat in moaie kombinaasje is tusken fjild en sealfuotbal.\nWier de muoite wurdich om efkes te sjen.\nSDS koe foar dizze edysje spitich genôch gjin seleksje byinoar krije.
URL:https://vv-sds.nl/evenemint/midsimmercup-yn-dronryp/
END:VEVENT
END:VCALENDAR